BEGIN:VCALENDAR
VERSION:2.0
PRODID:-//wp-events-plugin.com//6.5.2//EN
TZID:Europe/Rome
X-WR-TIMEZONE:Europe/Rome
BEGIN:VEVENT
UID:26@aniarti.it
DTSTART;TZID=Europe/Rome:20180410T080000
DTEND;TZID=Europe/Rome:20180410T130000
DTSTAMP:20180313T230102Z
URL:https://www.aniarti.it/events/rischio-clinico-dimensione-essenziale-pe
 r-la-sicurezza-delle-cure/
SUMMARY:Rischio Clinico: dimensione essenziale per la Sicurezza delle Cure
DESCRIPTION:\nLocandina completa (pdf)\nPROGRAMMA DEL CORSO\n8:00 – 8:30 
 Registrazione dei partecipanti\;\n8:30 – 9:00 – Il Rischio Clinico: co
 nosciamolo meglio.\nS. Bufacchi (Inf. 118\, L’Aquila)\;\n9:00 – 9:30 
 – Esperienze di Clinical Governance. L’infermiere del Rischio Clinico.
 \nN. De Camillis (Inf. Rischio Clinico\, ASL02 Chieti)\;\n9:30 – 10:00 
 – Noi: da eredi dei difetti a colpevoli dell’errore. Classificazione e
  identificazione degli eventi/errori. M. Di Renzo Rivera (Responsabile Cur
 e domiciliari e Percorso paziente post-acuto ASL 02 Chieti)\;\n10:00 – 1
 0:40 – Vincristina: diario dell’errore!.\nM. Stornelli (Coordinatore I
 nf.co Avezzano\, Coordinatore ufficio stampa APSILEF)\n10:40 – 11:15 –
  Coffee break “parlato”: spunti di riflessione\;\n11:15 – 12:00 – 
 Metodi e strumenti per la rilevazione\, l’analisi e il monitoraggio del 
 rishio: visione reattiva e proattiva del rischio.\nP. Fiore (Risk Manager\
 , Clinica Di Lorenzo\, Avezzano)\;\n12:00 – 12:30 – Dal Governo Clinic
 o alla Clinical Governace: eccellenze italiane. Il ruolo della simulazione
  avanzata come strumento per la riduzione dell’errore.\nA. Di Blasio (In
 f. Terapia Intensiva\, USL Pescara)\;\n12:30 – 13:00 – Considerazioni 
 finali e Take Home Message\nMODERATORI: Inf. Alessandro Di Risio – Inf. 
 Emanuele Buccione.\n\n&nbsp\;\n\nResponsabili Scientifici:\nFrancesco D’
 Ambrosio\, Responsabile ANIARTI Macro Area Centro Italia - f.dambrosio@ani
 arti.it\nMuzio Stornelli\, Coordinatore Inf.co\, Referente Aniarti Abruzzo
  – stornelli73@gmail.com\n\nSegreteria Organizzativa:\nAlessandro Di Ris
 io – Infermiere – Anestesia e Rianimazione ASL02 Chieti - alediri@hotm
 ail.com\n\n&nbsp\;\n\nIscrizioni Online sul sito Aniarti: www.aniarti.it\n
 \nIl corso è GRATUITO\, sono disponibili 50 posti per Professionisti Infe
 rmieri (fino ad esaurimento).\n\nLA FREQUENZA AL CORSO DA IL DIRITTO DI RI
 CEVERE UN BIGLIETTO OMAGGIO PER LA FIERA EXPO-SANITA’ CHE SI TERRA’ A 
 BOLOGNA DAL 18 AL 20 APRILE 2018\n\nRECESSO:\nE’ gradita la comunicazion
 e per la rinuncia alla frequenza dell’evento entro il 5/04/2018 comunica
 ndo la decisione tramite invio mail a aniarti@aniarti.it\n\n&nbsp\;\n\n&nb
 sp\;
CATEGORIES:workshop
LOCATION:Hotel Iacone\, Viale Abruzzo 372\, Chieti Scalo\, Chieti\, Abruzzo
 \, Italia
GEO:42.3441285;14.134812499999953
X-APPLE-STRUCTURED-LOCATION;VALUE=URI;X-ADDRESS=Viale Abruzzo 372\, Chieti 
 Scalo\, Chieti\, Abruzzo\, Italia;X-APPLE-RADIUS=100;X-TITLE=Hotel Iacone:
 geo:42.3441285,14.134812499999953
END:VEVENT
BEGIN:VTIMEZONE
TZID:Europe/Rome
X-LIC-LOCATION:Europe/Rome
BEGIN:DAYLIGHT
DTSTART:20180325T030000
TZOFFSETFROM:+0100
TZOFFSETTO:+0200
TZNAME:CEST
END:DAYLIGHT
END:VTIMEZONE
END:VCALENDAR