BEGIN:VCALENDAR
VERSION:2.0
PRODID:-//wp-events-plugin.com//6.5.2//EN
TZID:Europe/Rome
X-WR-TIMEZONE:Europe/Rome
BEGIN:VEVENT
UID:73@aniarti.it
DTSTART;TZID=Europe/Rome:20250503T080000
DTEND;TZID=Europe/Rome:20250503T140000
DTSTAMP:20250425T200927Z
URL:https://www.aniarti.it/events/le-competenze-infermieristiche-e-la-gest
 ione-del-trattamento-renale-sostitutivo-in-terapia-intensiva-tips-and-tric
 ks-for-success/
SUMMARY:Le competenze infermieristiche e la gestione del trattamento renale
  sostitutivo in terapia intensiva: Tips and tricks for success
DESCRIPTION:\nTITOLO: Le competenze infermieristiche e la gestione del trat
 tamento renale sostitutivo in terapia intensiva: Tips and tricks for succe
 ss\nRazionale\nIl trattamento renale sostitutivo (TRS) in area critica è 
 fondamentale per i pazienti con insufficienza renale acuta in terapia inte
 nsiva. Gli infermieri devono essere formati per gestire tecniche come emod
 ialisi\, dialisi peritoneale e filtrazione a membrana\, essenziali per il 
 monitoraggio e la gestione delle complicanze. La formazione avanzata in TR
 S è cruciale per garantire assistenza sicura e tempestiva\, evitando erro
 ri che possano compromettere la prognosi. Un corso specifico\, che combini
  teoria e pratica\, è necessario per migliorare la qualità delle cure\, 
 gestire apparecchiature\, monitorare parametri vitali e affrontare complic
 anze. Tale formazione riduce i rischi per il paziente\, ottimizza l’effi
 cienza del trattamento e le risorse sanitarie. Le istituzioni sanitarie\, 
 investendo nella formazione degli infermieri\, migliorano le performance a
 ssistenziali e gestiscono meglio i pazienti critici.\nObiettivo\nL’obiet
 tivo del corso è quello di acquisire elementi teorici e pratici sulla ges
 tione infermieristica del trattamento renale sostitutivo in terapia intens
 iva. Inoltre\, l’obiettivo secondario è quello di descrivere le compete
 nze infermieristiche sul trattamento renale sostitutivo in terapia intensi
 va.\nDurata e sessioni\n1 Giornata formativa (8:00-14.00)\nPROGRAMMA\n8:00
  - 8:45 Registrazione dei partecipanti\n8.45 - 9:30 Saluti alle Istituzion
 i – Presidente OPI Napoli Prof T. Rea\nSessione 1- Stato dell’arte e c
 ompenze (moderatori Dott. F. Gravante e Dott. F. Limonti)\n9:30 - 9:40 Int
 roduzione all evento Dott. C. Stabile\n9:40 – 10:10 Stato dell’arte ne
 l contesto Italiano Dott. S. Mancin\n10:10 – 10:30 Elementi di base sull
 e tecniche dialitiche Dott. A. Pizzo\n10:30 – 10:50 Competenze dell’in
 fermiere nel trattamento renale sostitutivo Dott. L. Cecere\n10:50 – 11:
 00 Coffea break\n2 Sessione Dalla teoria alla pratica (moderatori Dott. A.
  Pizzo e Dott. G. Artiola)\n11:00 – 11:20 Gestione dell ‘Accesso Vasco
 lare Dott. V. Faraone\n11:20 – 11:50 Il rapporto tra la macchina e il pa
 ziente critico Dott. F. Barci\n11:50 – 12:30 Casi Clinici sulla gestione
  delle complicanze nella CVVHD Dott. V. Faraone\, Dott. S. Mancin\, Dott. 
 M.R. Esposito\n12:30 – 13:30 Tavola rotonda e confronto tra esperti dell
 e società scientifiche (Presidente OPI NAPOLI\, ANIARTI\, ANIPIO\, IVAS\,
  SIAN)\n13:30 – 14:00 Questionario ECM e di gradimento
CATEGORIES:workshop
LOCATION:OPI Napoli\, Piazza Carità 32\, Napoli\, Na\, Italia
X-APPLE-STRUCTURED-LOCATION;VALUE=URI;X-ADDRESS=Piazza Carità 32\, Napoli\
 , Na\, Italia;X-APPLE-RADIUS=100;X-TITLE=OPI Napoli:geo:0,0
END:VEVENT
BEGIN:VTIMEZONE
TZID:Europe/Rome
X-LIC-LOCATION:Europe/Rome
BEGIN:DAYLIGHT
DTSTART:20250330T030000
TZOFFSETFROM:+0100
TZOFFSETTO:+0200
TZNAME:CEST
END:DAYLIGHT
END:VTIMEZONE
END:VCALENDAR